BEGIN:VCALENDAR
VERSION:2.0
PRODID:-//Droonimaailm.ee - ECPv6.7.0//NONSGML v1.0//EN
CALSCALE:GREGORIAN
METHOD:PUBLISH
X-WR-CALNAME:Droonimaailm.ee
X-ORIGINAL-URL:https://www.droonimaailm.ee
X-WR-CALDESC:Events for Droonimaailm.ee
REFRESH-INTERVAL;VALUE=DURATION:PT1H
X-Robots-Tag:noindex
X-PUBLISHED-TTL:PT1H
BEGIN:VTIMEZONE
TZID:Europe/Tallinn
BEGIN:DAYLIGHT
TZOFFSETFROM:+0200
TZOFFSETTO:+0300
TZNAME:EEST
DTSTART:20200329T010000
END:DAYLIGHT
BEGIN:STANDARD
TZOFFSETFROM:+0300
TZOFFSETTO:+0200
TZNAME:EET
DTSTART:20201025T010000
END:STANDARD
END:VTIMEZONE
BEGIN:VEVENT
DTSTART;TZID=Europe/Tallinn:20200617T100000
DTEND;TZID=Europe/Tallinn:20200617T160000
DTSTAMP:20260421T183425
CREATED:20200518T210317Z
LAST-MODIFIED:20200518T210317Z
UID:19679-1592388000-1592409600@www.droonimaailm.ee
SUMMARY:Droonikoolitus “Basic” Droonimaailmas
DESCRIPTION:[vc_row][vc_column][vc_column_text] \n17. juunil 2020 toimub järgmine droonikoolitus “Basic”\nDroonikoolitus “Basic” on mõeldud eelkõige alustavale või juba ala juurde jõudnud droonipilootidele. Neile\, kes soovivad\, et tema droon terveks jääks ning oskaksid oma õhusõidukit heaperemehelikult käidelda ja ohutuse tagada nii kodus akusid hoides kui ka drooni juhtides kolmandate osapoolte suhtes. Droonikoolituse läbinud piloot on eeskujulik droonilennutaja nii kehtivate regulatsioonide järgimisel kui ka suudab drooni ohu korral turvaliselt maandada. \nDroonikoolitus “Basic” sisaldab teoreetilist ja praktilist osa\, mille ajaline kestvus: 10.00- 16.00 koos lõunapausiga Droonimaailma all asuvas kohvikus (sisaldub hinnas). Grupikoolituse hind ühele osalejale on 232.50€ +KM ehk 279€ (sis.KM). Kui grupikoolitusel osalejal on droon endal olemas\, siis keskendume koolitusel ka tema droonile. Kui osalejal drooni pole\, siis saab harjutada ka meie treening drooniga – ikka seepärast\, et droonikoolituse läbinud osalejal oleks tulevikus juba palju kindlam enesetunne oma drooni lennutada. Kui juhtub olema nii\, et lennuilm on kehva\, siis lükkame lennupraktika päeva edasi. \nToimumise koht Droonimaailma droonikeskuses\nMaksimum koolitusel osalejate arv: 5 \nKoolituse sisu: \n• Tutvustus;\n• akude laadimine\, ohutus ja õige kasutamine ning hoiustamine;\n• multikopteri e. drooni ehitus;\n• lennusaatja (pult) omadused- kasutus;\n• GPS seadmed -/ kasutamine;\n• tarkvara kasutus ja diagnostika;\n• Droonilennutamise eelsed protseduurid: nõuded\, tingimused ohutuse tagamisel (Lennuameti piirangud ohualadel ja lennuloa taotlemine);\n• Lennutreening (osaleja isiklik droon RTF); \nMeie lennuloa taotluse vormi kasutamine ja lisainfo: www.drooniluba.ee\nKoolituse info: www.droonikoolitus.ee\nKoolitaja: Henry Tombak – Droonimaailma juht (DJI Beta-Tester). \nSoovid osaleda? Väga tore – enda registreerimiseks lisa grupikoolitus enda ostukorvi ja märgi märkustesse endale sobiv kuupäev. Nimekiri läheb lukku 2 päeva enne koolituse algust.\nKõikidele koolituse läbinutele\, väljastame tunnistused.[/vc_column_text][/vc_column][/vc_row][vc_row][vc_column]299 € 199 € EURLisa korvi [/vc_column][/vc_row][vc_row][vc_column][vc_column_text]Kohtumiseni Droonimaailmas![/vc_column_text][/vc_column][/vc_row]
URL:https://www.droonimaailm.ee/koolitus/droonikoolitus-basic-droonimaailmas-36/
LOCATION:Droonimaailma droonikeskus\, Valdeku 132\, Tallinn\, Harjumaakond\, 11216\, Eesti
CATEGORIES:Droonikoolitused
ATTACH;FMTTYPE=image/png:https://www.droonimaailm.ee/wp-content/uploads/2018/10/42541794_1841647625904461_417820025476394811392_o.png
ORGANIZER;CN="Aeromeedia O%C3%9C / Droonimaailm.ee":MAILTO:info@droonikoolitus.ee
END:VEVENT
END:VCALENDAR