BEGIN:VCALENDAR
VERSION:2.0
PRODID:-//Droonimaailm.ee - ECPv6.7.0//NONSGML v1.0//EN
CALSCALE:GREGORIAN
METHOD:PUBLISH
X-WR-CALNAME:Droonimaailm.ee
X-ORIGINAL-URL:https://www.droonimaailm.ee
X-WR-CALDESC:Events for Droonimaailm.ee
REFRESH-INTERVAL;VALUE=DURATION:PT1H
X-Robots-Tag:noindex
X-PUBLISHED-TTL:PT1H
BEGIN:VTIMEZONE
TZID:Europe/Tallinn
BEGIN:DAYLIGHT
TZOFFSETFROM:+0200
TZOFFSETTO:+0300
TZNAME:EEST
DTSTART:20210328T010000
END:DAYLIGHT
BEGIN:STANDARD
TZOFFSETFROM:+0300
TZOFFSETTO:+0200
TZNAME:EET
DTSTART:20211031T010000
END:STANDARD
BEGIN:DAYLIGHT
TZOFFSETFROM:+0200
TZOFFSETTO:+0300
TZNAME:EEST
DTSTART:20220327T010000
END:DAYLIGHT
BEGIN:STANDARD
TZOFFSETFROM:+0300
TZOFFSETTO:+0200
TZNAME:EET
DTSTART:20221030T010000
END:STANDARD
BEGIN:DAYLIGHT
TZOFFSETFROM:+0200
TZOFFSETTO:+0300
TZNAME:EEST
DTSTART:20230326T010000
END:DAYLIGHT
BEGIN:STANDARD
TZOFFSETFROM:+0300
TZOFFSETTO:+0200
TZNAME:EET
DTSTART:20231029T010000
END:STANDARD
END:VTIMEZONE
BEGIN:VEVENT
DTSTART;TZID=Europe/Tallinn:20230405T100000
DTEND;TZID=Europe/Tallinn:20230405T160000
DTSTAMP:20260422T025802
CREATED:20230313T100305Z
LAST-MODIFIED:20230314T215449Z
UID:41865-1680688800-1680710400@www.droonimaailm.ee
SUMMARY:Droonikoolitus “Basic” Droonimaailmas
DESCRIPTION:5. aprill 2023 toimub järgmine droonikoolitus “Basic” \nDroonikoolitus “Basic” on mõeldud eelkõige alustavale või juba ala juurde jõudnud droonipilootidele. Neile\, kes soovivad\, et tema droon terveks jääks ning oskaksid oma õhusõidukit heaperemehelikult käidelda ja ohutuse tagada nii kodus akusid hoides kui ka drooni juhtides kolmandate osapoolte suhtes. Droonikoolituse läbinud piloot on eeskujulik droonilennutaja nii kehtivate regulatsioonide järgimisel kui ka suudab drooni ohu korral turvaliselt maandada. \nDroonikoolitus “Basic” sisaldab teoreetilist ja praktilist osa\, mille ajaline kestvus: 10.00- 16.00 koos lõunapausiga (sisaldub hinnas). Grupikoolituse hind ühele osalejale on 189€ (sis.KM). Kui grupikoolitusel osalejal on droon endal olemas\, siis keskendume koolitusel ka tema droonile. Kui osalejal drooni pole\, siis saab harjutada ka meie treening drooniga – ikka seepärast\, et droonikoolituse läbinud osalejal oleks tulevikus juba palju kindlam enesetunne oma drooni lennutada. Kui juhtub olema nii\, et lennuilm on kehva\, siis lükkame lennupraktika päeva edasi. \nToimumise koht Droonimaailma droonikeskuses\nMaksimum koolitusel osalejate arv: 5 \nKoolituse sisu: \n• Tutvustus;\n• akude laadimine\, ohutus ja õige kasutamine ning hoiustamine;\n• multikopteri e. drooni ehitus;\n• lennusaatja (pult) omadused- kasutus;\n• GPS seadmed -/ kasutamine;\n• tarkvara kasutus ja diagnostika;\n• Droonilennutamise eelsed protseduurid: nõuded\, tingimused ohutuse tagamisel (Lennuameti piirangud ohualadel ja lennuloa taotlemine);\n• Lennutreening (osaleja isiklik droon RTF); \nKoolituse info: www.droonikoolitus.ee\nKoolitaja: Henry Tombak – Droonimaailma juht (DJI Beta-Tester). \nSoovid osaleda? Väga tore – enda registreerimiseks lisa grupikoolitus enda ostukorvi ja märgi märkustesse endale sobiv kuupäev. Nimekiri läheb lukku 2 päeva enne koolituse algust. Kõikidele koolituse läbinutele\, väljastame tunnistused. \n\n\n\nRegistreeru koolitusele ja lisa pilet ostukorvi / hind ühele osalejale:\n299 € 199 € EURLisa korvi \n\n\n\nKohtumiseni Droonimaailmas!
URL:https://www.droonimaailm.ee/koolitus/droonikoolitus-basic-droonimaailmas-51/
LOCATION:Droonimaailma tehniline -ja koolituskeskus\, Vabaduse 7\, Kohila\, Raplamaa\, 79801\, Eesti
CATEGORIES:Droonikoolitused,SÜNDMUSED
ATTACH;FMTTYPE=image/png:https://www.droonimaailm.ee/wp-content/uploads/2023/03/3Dkopter2022.png
ORGANIZER;CN="Aeromeedia O%C3%9C / Droonimaailm.ee":MAILTO:info@droonikoolitus.ee
END:VEVENT
BEGIN:VEVENT
DTSTART;TZID=Europe/Tallinn:20210930T130000
DTEND;TZID=Europe/Tallinn:20210930T233000
DTSTAMP:20260422T025802
CREATED:20210919T181904Z
LAST-MODIFIED:20210919T181904Z
UID:27251-1633006800-1633044600@www.droonimaailm.ee
SUMMARY:Droonimaailam Drooniseminar
DESCRIPTION:30. Septembril 2021 algusega kell: 13.00 toimub Droonimaailm.ee aasta viimane suuremat sorti drooniseminar: “Multirootorid – ja droonid Valklas 2021” nii sees kui väljas. Üritus toimub Valkla puhkekeskuses. Seminaril osalejate arv on piiratud.\n1. Päeva esimene pool „Seminari osa“ (algus kell: 13.00): \nNäeb uusi ja ainulaadseid droone ning nende lisavarustust\, kus enda ettekande teevad seminaril nii kaamera kui ka droonitootjate esindajad. Teeme juttu aeromõõdistuse võimalustest\, kasust ning selle rakendamisest igapäeva töös. \n– Ühtlasi saad sa uue põlvkonna drooni Wingtra GEN II Baltikumi esmaesitlusest osa. Ülevaate droonist teeb Wingtra esindaja ja naidislennud teostab hiljem ametlik esindaja Eestis (3Di). \n– YellowScan Baltikumi esindaja räägib enda ettekandes\, milleks LiDar ja milleks fotogramm-meetria? Võrdlevaid andmeid tulemustelt nii DJI Zenmuse L1 kui YellowScan Mapper’ilt. \n– Samuti on regiooni PhaseOne esindaja kohapeal\, kes teeb seminari raames ülevaate nende ülivõimekast PhaseOne P3 IMX100 kaamerast\, mis on spetsiaalselt aeromõõdistamiseks ning kindlasti jagab kasuliku infot. M300RTK jaoks loodud 100MPIX kaamerat kui ka mõõdistuse tulemustega saad tutvuda päeva teises pooles. \n\n2. Päeva teine pool on FUN ehk ”Lennutamise” osa (algusega kell 16.30): \nOrienteeruvalt kell: 16.30 on oodatud kõik droonisõbrad suurele lennutamisele\, kus siis kindlasti ära unusta kaasa võtmast enda droon ”Droonide ühispildistamisele”. Ühtlasi teeme ära võrdluslennud hilisemate andmete ja tulemuste kõrvutamisel\, kus näeme reaalset erinevust töö efektiivsuses\, kiiruses ja seadistamisel erinevate droonidega. Droonimaailma koolitaja Henry aga räägib õhust võetud aerofoto või panoraami töötlusest workshopis. Peale kõike seda toimub saunamajas grill\, saun ja arutelud nii A1 ja A3 pädevuste üle kui ka loomulikult saame vastused kõikides muudes tähtsates küsimustes. \nKorraldaja: Droonimaailm.ee / 3Di.ee\nAsukoht: Eesti\, Valkla Ranna puhkekeskuses / Vaata rohkem SIIT \nPilet: Seminar + lennutamine: 40€ per. osaleja (registreeri siin) lisades seminar omale tootena ostukorvi\nPilet: Lennutamine: 20€ per. osaleja (registreeri siin) lisades seminar omale tootena ostukorvi\nPS! Kohapeal on võimalik ööbida. 50€ öö. (ööbimise broneerimiseks palun kirjuta: info(at)droonimaailm.ee)\nHinnad sisaldavad käibemaksu (20%)
URL:https://www.droonimaailm.ee/koolitus/droonimaailam-drooniseminar/
LOCATION:Valkla Ranna puhkekeskuses\, Rannaliiva\, valkla\, Harjumaakond\, 74630\, Eesti
CATEGORIES:SÜNDMUSED
ATTACH;FMTTYPE=image/png:https://www.droonimaailm.ee/wp-content/uploads/2021/09/Multirootorid-ja-droonid-Valklas-2021-DM-banner.png
ORGANIZER;CN="Aeromeedia O%C3%9C / Droonimaailm.ee":MAILTO:info@droonikoolitus.ee
END:VEVENT
END:VCALENDAR